BEGIN:VCALENDAR
VERSION:2.0
PRODID:-//wp-events-plugin.com//7.2.3.1//EN
BEGIN:VEVENT
UID:4@zwoelf-bar.de
DTSTART;TZID=Europe/Amsterdam:20251202T190000
DTEND;TZID=Europe/Amsterdam:20261201T223000
DTSTAMP:20260220T024644Z
URL:https://zwoelf-bar.de/veranstaltung/pubquiz/
SUMMARY:Pub Quiz DE
DESCRIPTION:Alle 2 Wochen – immer am ersten und dritten Dienstag im Monat
  – verwandelt sich unsere Bar in ein echtes Quiz-Battlefield: Es ist wie
 der Pub Quiz Zeit!\nStellt euer Team zusammen\, schnappt euch ein kühles 
 Getränk und zeigt\, was in euch steckt. Ob ihr euch den Tagessiegsichern 
 wollt oder fleißig Punkte für die Jahreswertung sammelt – hier ist fü
 r alle etwas dabei: vom ehrgeizigen Stammteam bis zur entspannten Feierabe
 ndrunde.\nDie Fragen sind bunt gemischt und sorgen für Abwechslung und Ge
 sprächsstoff:\n\n\n 	Allgemeinwissen – von Geografie über Geschichte b
 is Popkultur\n 	Musik – erkenne Songs\, Interpreten oder vervollständig
 e die Lyrics\n 	Bilderrätsel &amp\; Bilderkennung – berühmte Orte\, Lo
 gos\, Personen und mehr\n\nZu gewinnen gibt’s natürlich auch etwas:Das 
 Siegerteam des Abends erhält einen Gutschein im Wert von 24 € für unse
 re Bar.\nKommt vorbei\, denkt scharf nach\, diskutiert hitzig mit eurem Te
 am und feiert am Ende eure Punkte – oder gleich den Tagessieg.\nJetzt Te
 am zusammenstellen und beim nächsten PubQuiz dabei sein!
CATEGORIES:Pub Quiz DE
END:VEVENT
BEGIN:VTIMEZONE
TZID:Europe/Amsterdam
X-LIC-LOCATION:Europe/Amsterdam
BEGIN:STANDARD
DTSTART:20251026T020000
TZOFFSETFROM:+0200
TZOFFSETTO:+0100
TZNAME:CET
END:STANDARD
BEGIN:DAYLIGHT
DTSTART:20260329T030000
TZOFFSETFROM:+0100
TZOFFSETTO:+0200
TZNAME:CEST
END:DAYLIGHT
BEGIN:STANDARD
DTSTART:20261025T020000
TZOFFSETFROM:+0200
TZOFFSETTO:+0100
TZNAME:CET
END:STANDARD
END:VTIMEZONE
END:VCALENDAR